BEGIN:VCALENDAR
VERSION:2.0
PRODID:-//Saskatchewan Professional Planners Institute - ECPv6.15.20//NONSGML v1.0//EN
CALSCALE:GREGORIAN
METHOD:PUBLISH
X-ORIGINAL-URL:https://sppi.ca
X-WR-CALDESC:Events for Saskatchewan Professional Planners Institute
REFRESH-INTERVAL;VALUE=DURATION:PT1H
X-Robots-Tag:noindex
X-PUBLISHED-TTL:PT1H
BEGIN:VTIMEZONE
TZID:America/Regina
BEGIN:STANDARD
TZOFFSETFROM:-0600
TZOFFSETTO:-0600
TZNAME:CST
DTSTART:20250101T000000
END:STANDARD
END:VTIMEZONE
BEGIN:VEVENT
DTSTART;TZID=America/Regina:20261005T080000
DTEND;TZID=America/Regina:20261006T170000
DTSTAMP:20260424T173044
CREATED:20260415T184327Z
LAST-MODIFIED:20260415T184327Z
UID:2349-1791187200-1791306000@sppi.ca
SUMMARY:Save the Date! 2026 SPPI Conference
DESCRIPTION:The 2026 SPPI conference will take place on October 5 – 6 at the Sheraton Cavalier located in the heart of downtown Saskatoon and situated in Treaty 6 Territory. Our annual conference will provide a platform for learning\, professional networking\, and celebrating our member’s accomplishments. Stay tuned for more information on registration and program coming soon!
URL:https://sppi.ca/event/save-the-date-2026-sppi-conference/
ATTACH;FMTTYPE=image/png:https://sppi.ca/wp-content/uploads/2026/04/2026-Conference-Banner.png
END:VEVENT
END:VCALENDAR