BEGIN:VCALENDAR
VERSION:2.0
PRODID:-//Saskatchewan Professional Planners Institute - ECPv6.15.20//NONSGML v1.0//EN
CALSCALE:GREGORIAN
METHOD:PUBLISH
X-WR-CALNAME:Saskatchewan Professional Planners Institute
X-ORIGINAL-URL:https://sppi.ca
X-WR-CALDESC:Events for Saskatchewan Professional Planners Institute
REFRESH-INTERVAL;VALUE=DURATION:PT1H
X-Robots-Tag:noindex
X-PUBLISHED-TTL:PT1H
BEGIN:VTIMEZONE
TZID:America/Regina
BEGIN:STANDARD
TZOFFSETFROM:-0600
TZOFFSETTO:-0600
TZNAME:CST
DTSTART:20210101T000000
END:STANDARD
END:VTIMEZONE
BEGIN:VEVENT
DTSTART;TZID=America/Regina:20220602T133000
DTEND;TZID=America/Regina:20220602T153000
DTSTAMP:20260424T190524
CREATED:20220421T194249Z
LAST-MODIFIED:20220518T160534Z
UID:473-1654176600-1654183800@sppi.ca
SUMMARY:Heritage Standards and Guidelines Workshop
DESCRIPTION:It is necessary to properly maintain heritage buildings\, and sometimes to make changes to them. This workshop will discuss best practices for this work\, including striking a balance between heritage requirements and economic feasibility. Participants will be introduced to the Standards and Guidelines for the Conservation of Historic Places in Canada\, a nationally recognized manual that guides decisions about alterations to heritage buildings and other historic places. \nThis will qualify for 2 LU’s. \nStay tuned for further information on registration coming soon.
URL:https://sppi.ca/event/heritage-standards-and-guidelines-workshop/
ATTACH;FMTTYPE=image/jpeg:https://sppi.ca/wp-content/uploads/2022/04/iStock-691107688-1.jpeg
END:VEVENT
BEGIN:VEVENT
DTSTART;TZID=America/Regina:20220601T133000
DTEND;TZID=America/Regina:20220601T153000
DTSTAMP:20260424T190524
CREATED:20220421T194158Z
LAST-MODIFIED:20220517T190706Z
UID:471-1654090200-1654097400@sppi.ca
SUMMARY:Spring Heritage Workshop
DESCRIPTION:A Statement of Significance is a document that explains why a historic place is important and identifies the features of the place that should be preserved. Using case studies and a virtual exercise\, workshop participants will learn how to assess a historic building’s heritage value\, identify its character defining elements\, and communicate this information in a well written Statement of Significance. \nThis will qualify for 2 LU’s
URL:https://sppi.ca/event/spring-heritage-workshop/
ATTACH;FMTTYPE=image/jpeg:https://sppi.ca/wp-content/uploads/2022/04/iStock-481114587.jpeg
END:VEVENT
END:VCALENDAR